BEGIN:VCALENDAR
VERSION:2.0
PRODID:-//Silver City Radio - ECPv6.3.3.1//NONSGML v1.0//EN
CALSCALE:GREGORIAN
METHOD:PUBLISH
X-WR-CALNAME:Silver City Radio
X-ORIGINAL-URL:https://silvercityradio.com
X-WR-CALDESC:Events for Silver City Radio
REFRESH-INTERVAL;VALUE=DURATION:PT1H
X-Robots-Tag:noindex
X-PUBLISHED-TTL:PT1H
BEGIN:VTIMEZONE
TZID:UTC
BEGIN:STANDARD
TZOFFSETFROM:+0000
TZOFFSETTO:+0000
TZNAME:UTC
DTSTART:20200101T000000
END:STANDARD
END:VTIMEZONE
BEGIN:VEVENT
DTSTART;TZID=UTC:20200825T160000
DTEND;TZID=UTC:20200825T170000
DTSTAMP:20260422T160603
CREATED:20200819T211043Z
LAST-MODIFIED:20200819T211043Z
UID:10001541-1598371200-1598374800@silvercityradio.com
SUMMARY:Silver City Public Library Minecraft Club
DESCRIPTION:The Silver City Public Library has a virtual Minecraft Club for kids online that is accessible by invitation. Anyone playing on Xbox One\, Nintendo Switch\, Android\, iPhone\, iPad\, Windows 10\, Windows Phone\, Amazon Fire tablets or Gear VR can play together. Next online meeting is Tuesday\, August 25th from 4:00 to 5:00 P.M.. Contact the library at programs@silvercitymail.com for more information.
URL:https://silvercityradio.com/event/silver-city-public-library-minecraft-club/
CATEGORIES:Kids Event
END:VEVENT
BEGIN:VEVENT
DTSTART;TZID=UTC:20200825T180000
DTEND;TZID=UTC:20200825T193000
DTSTAMP:20260422T160603
CREATED:20200819T211244Z
LAST-MODIFIED:20200819T211302Z
UID:10001542-1598378400-1598383800@silvercityradio.com
SUMMARY:Tyrone Property Owner's Association Public Meeting
DESCRIPTION:The Tyrone Property Owner’s Association is holding a virtual public meeting for comments on Tuesday\, August 25th 6:00 P.M. regarding intent to file an application with USDA Rural Development for financial assistance to develop a proposed water system improvement project. The public meeting\, to be held virtually by Zoom\, can be accessed by either of the following options: Web Link: https://us02web.zoom.us/meeting/register/tZcqd-GoqzosGdRSQYbC8ezoXLF0GJMXy1U0 Telephone: (888) 506-1304. You can also call 575-388-1543 for information on how to access the meeting.
URL:https://silvercityradio.com/event/tyrone-property-owners-association-public-meeting/
CATEGORIES:Meeting,Public Notice
END:VEVENT
END:VCALENDAR