BEGIN:VCALENDAR
VERSION:2.0
PRODID:-//Silver City Radio - ECPv6.3.3.1//NONSGML v1.0//EN
CALSCALE:GREGORIAN
METHOD:PUBLISH
X-WR-CALNAME:Silver City Radio
X-ORIGINAL-URL:https://silvercityradio.com
X-WR-CALDESC:Events for Silver City Radio
REFRESH-INTERVAL;VALUE=DURATION:PT1H
X-Robots-Tag:noindex
X-PUBLISHED-TTL:PT1H
BEGIN:VTIMEZONE
TZID:UTC
BEGIN:STANDARD
TZOFFSETFROM:+0000
TZOFFSETTO:+0000
TZNAME:UTC
DTSTART:20200101T000000
END:STANDARD
END:VTIMEZONE
BEGIN:VEVENT
DTSTART;TZID=UTC:20200823T190000
DTEND;TZID=UTC:20200823T200000
DTSTAMP:20260422T223017
CREATED:20200728T224040Z
LAST-MODIFIED:20200728T224040Z
UID:10001529-1598209200-1598212800@silvercityradio.com
SUMMARY:Silver City Museum Bilingual Bedtime Story: "Calling the Doves""
DESCRIPTION:The Silver City Museum will continue its bilingual bedtime story series on Sunday\, August 23rd 7:00 P.M. with a reading of “Calling the Doves.” The public can register and attend this Zoom Webinar for free at silvercitymuseum.org.
URL:https://silvercityradio.com/event/silver-city-museum-bilingual-bedtime-story-calling-the-doves/
CATEGORIES:Kids Event
END:VEVENT
END:VCALENDAR