BEGIN:VCALENDAR
VERSION:2.0
PRODID:-//Silver City Radio - ECPv6.3.3.1//NONSGML v1.0//EN
CALSCALE:GREGORIAN
METHOD:PUBLISH
X-WR-CALNAME:Silver City Radio
X-ORIGINAL-URL:https://silvercityradio.com
X-WR-CALDESC:Events for Silver City Radio
REFRESH-INTERVAL;VALUE=DURATION:PT1H
X-Robots-Tag:noindex
X-PUBLISHED-TTL:PT1H
BEGIN:VTIMEZONE
TZID:UTC
BEGIN:STANDARD
TZOFFSETFROM:+0000
TZOFFSETTO:+0000
TZNAME:UTC
DTSTART:20200101T000000
END:STANDARD
END:VTIMEZONE
BEGIN:VEVENT
DTSTART;TZID=UTC:20200822T073000
DTEND;TZID=UTC:20200822T120000
DTSTAMP:20260422T160600
CREATED:20200818T174618Z
LAST-MODIFIED:20200818T174618Z
UID:10001538-1598081400-1598097600@silvercityradio.com
SUMMARY:Copper Country Cruizers 2020 Most Unusual Parade of Cars
DESCRIPTION:The Copper Country Cruizers are inviting Grant County old vehicle owners to a free of charge “2020 Most Unusual Parade of Cars” event this Saturday\, August 22nd. Line up is at the Harbor Freight parking lot in Silver City from 7:30 to 9:00 A.M. Vehicles must be 1980 or older with valid registration and vehicle insurance. The parade will travel from Silver City through the Mining District and back. Participants must remain in their vehicles and or wear face coverings. For more information\, call 575-313-4493.
URL:https://silvercityradio.com/event/copper-country-cruizers-2020-most-unusual-parade-of-cars/
CATEGORIES:Entertainment
END:VEVENT
BEGIN:VEVENT
DTSTART;TZID=UTC:20200822T083000
DTEND;TZID=UTC:20200822T120000
DTSTAMP:20260422T160600
CREATED:20200723T174025Z
LAST-MODIFIED:20200723T174025Z
UID:10001523-1598085000-1598097600@silvercityradio.com
SUMMARY:Makers Market in Mainstreet Plaza
DESCRIPTION:The Future Forge is hosting Silver City’s first ever official “Makers Market” in Mainstreet Plaza in Downtown Silver City every Saturday from 8:30 A.M. to 12 noon starting August 1st running through October 31st. Makers\, producers and growers of Grant and surrounding counties are welcome to sell handmade\, homemade or homegrown items at the Makers Market. For booth/vendor information\, call 575-313-5665 or visit online at https://www.thefutureforge.org/.
URL:https://silvercityradio.com/event/makers-market-in-mainstreet-plaza-4/
CATEGORIES:Craft
END:VEVENT
END:VCALENDAR