BEGIN:VCALENDAR
VERSION:2.0
PRODID:-//Silver City Radio - ECPv6.3.3.1//NONSGML v1.0//EN
CALSCALE:GREGORIAN
METHOD:PUBLISH
X-WR-CALNAME:Silver City Radio
X-ORIGINAL-URL:https://silvercityradio.com
X-WR-CALDESC:Events for Silver City Radio
REFRESH-INTERVAL;VALUE=DURATION:PT1H
X-Robots-Tag:noindex
X-PUBLISHED-TTL:PT1H
BEGIN:VTIMEZONE
TZID:UTC
BEGIN:STANDARD
TZOFFSETFROM:+0000
TZOFFSETTO:+0000
TZNAME:UTC
DTSTART:20200101T000000
END:STANDARD
END:VTIMEZONE
BEGIN:VEVENT
DTSTART;TZID=UTC:20200817T100000
DTEND;TZID=UTC:20200817T160000
DTSTAMP:20260422T160604
CREATED:20200814T214944Z
LAST-MODIFIED:20200814T214955Z
UID:10001536-1597658400-1597680000@silvercityradio.com
SUMMARY:Town of Hurley Water Shutoff
DESCRIPTION:Monday\, August 17th\, the Town of Hurley will be shutting of water service for all of Hurley and North Hurley residents to repair a main water line in between the hours of 10:00am and 4:00pm.  The Town of Hurley apologizes for any inconvenience this may cause and appreciate your cooperation.
URL:https://silvercityradio.com/event/town-of-hurley-water-shutoff/
CATEGORIES:Public Notice
END:VEVENT
BEGIN:VEVENT
DTSTART;TZID=UTC:20200817T160000
DTEND;TZID=UTC:20200817T170000
DTSTAMP:20260422T160604
CREATED:20200810T222823Z
LAST-MODIFIED:20200810T222836Z
UID:10001534-1597680000-1597683600@silvercityradio.com
SUMMARY:Grant Soil & Water Conservation District Meeting
DESCRIPTION:The regular monthly board meeting of the Grant Soil and Water Conservation District will be held Monday\, August 17th\, at 4:00 p.m. The meeting will be held via conference call. To access the meeting dial 978-990-5135 and enter access code 6077235. To request a copy of the agenda or for more information\, please call 575-388-1569 or email grantswcd@zianet.com.
URL:https://silvercityradio.com/event/grant-soil-water-conservation-district-meeting-7/
CATEGORIES:Meeting
END:VEVENT
END:VCALENDAR