BEGIN:VCALENDAR
VERSION:2.0
PRODID:-//Silver City Radio - ECPv6.3.3.1//NONSGML v1.0//EN
CALSCALE:GREGORIAN
METHOD:PUBLISH
X-WR-CALNAME:Silver City Radio
X-ORIGINAL-URL:https://silvercityradio.com
X-WR-CALDESC:Events for Silver City Radio
REFRESH-INTERVAL;VALUE=DURATION:PT1H
X-Robots-Tag:noindex
X-PUBLISHED-TTL:PT1H
BEGIN:VTIMEZONE
TZID:UTC
BEGIN:STANDARD
TZOFFSETFROM:+0000
TZOFFSETTO:+0000
TZNAME:UTC
DTSTART:20200101T000000
END:STANDARD
END:VTIMEZONE
BEGIN:VEVENT
DTSTART;TZID=UTC:20200815T083000
DTEND;TZID=UTC:20200815T120000
DTSTAMP:20260423T131219
CREATED:20200723T173626Z
LAST-MODIFIED:20200723T173626Z
UID:10001522-1597480200-1597492800@silvercityradio.com
SUMMARY:Makers Market in Mainstreet Plaza
DESCRIPTION:The Future Forge is hosting Silver City’s first ever official “Makers Market” in Mainstreet Plaza in Downtown Silver City every Saturday from 8:30 A.M. to 12 noon starting August 1st running through October 31st. Makers\, producers and growers of Grant and surrounding counties are welcome to sell handmade\, homemade or homegrown items at the Makers Market. For booth/vendor information\, call 575-313-5665 or visit online at https://www.thefutureforge.org/.
URL:https://silvercityradio.com/event/makers-market-in-mainstreet-plaza-3/
CATEGORIES:Craft
END:VEVENT
BEGIN:VEVENT
DTSTART;TZID=UTC:20200815T190000
DTEND;TZID=UTC:20200815T200000
DTSTAMP:20260423T131219
CREATED:20200728T222918Z
LAST-MODIFIED:20200728T223211Z
UID:10001528-1597518000-1597521600@silvercityradio.com
SUMMARY:Silver City Community Theater "Zoom" Performance
DESCRIPTION:The Silver City Community Theater is presenting a performance of “All You Get” via Zoom on Saturday\, August 15th at 7:00 P.M. Send your email address to contact@silvercitycommunitytheater.com\, and they’ll send you the Zoom meeting information for the play. You can also visit Silver City Community Theater’s website\, Facebook and Instagram page.
URL:https://silvercityradio.com/event/silver-city-community-theater-zoom-performance/
CATEGORIES:Entertainment
END:VEVENT
END:VCALENDAR