BEGIN:VCALENDAR
VERSION:2.0
PRODID:-//Silver City Radio - ECPv6.3.3.1//NONSGML v1.0//EN
CALSCALE:GREGORIAN
METHOD:PUBLISH
X-ORIGINAL-URL:https://silvercityradio.com
X-WR-CALDESC:Events for Silver City Radio
REFRESH-INTERVAL;VALUE=DURATION:PT1H
X-Robots-Tag:noindex
X-PUBLISHED-TTL:PT1H
BEGIN:VTIMEZONE
TZID:UTC
BEGIN:STANDARD
TZOFFSETFROM:+0000
TZOFFSETTO:+0000
TZNAME:UTC
DTSTART:20200101T000000
END:STANDARD
END:VTIMEZONE
BEGIN:VEVENT
DTSTART;TZID=UTC:20200218T080000
DTEND;TZID=UTC:20200218T170000
DTSTAMP:20260422T230819
CREATED:20200122T182929Z
LAST-MODIFIED:20200122T182929Z
UID:10001440-1582012800-1582045200@silvercityradio.com
SUMMARY:Yoga for Veterans
DESCRIPTION:The is FREE Yoga for Veterans every Tuesday from 5:00 to 6:00 P.M. that is Beginners level and very gentle. The free class is Held at the American Legion Hall located at 409 College Avenue in Silver City. Active duty and active duty and military families are also welcomed to participate. The class is sponsored by the Lotus Center\, a community non-profit yoga studio.
URL:https://silvercityradio.com/event/yoga-for-veterans-5/
LOCATION:American Legion Hall\, 409 College Avenue\, Silver City\, NM\, United States
CATEGORIES:Health Event
END:VEVENT
BEGIN:VEVENT
DTSTART;TZID=UTC:20200218T140000
DTEND;TZID=UTC:20200218T150000
DTSTAMP:20260422T230819
CREATED:20200211T173721Z
LAST-MODIFIED:20200211T173721Z
UID:10001459-1582034400-1582038000@silvercityradio.com
SUMMARY:Upper Gila Valley Arroyos Watershed District Meeting
DESCRIPTION:A regular meeting of the Upper Gila Valley Arroyos Watershed District will be held Tuesday\, February 18th\, at 2:00 p.m. The meeting will be held at the Cliff/Gila Fire Department in Cliff\, NM. To request a copy of the agenda or for more information\, please call 575-388-1569 or email grantswcd@zianet.com. The public is welcome to attend.
URL:https://silvercityradio.com/event/upper-gila-valley-arroyos-watershed-district-meeting-2/
LOCATION:Cliff/Gila Fire Department
CATEGORIES:Meeting
END:VEVENT
END:VCALENDAR