BEGIN:VCALENDAR
VERSION:2.0
PRODID:-//Silver City Radio - ECPv6.3.3.1//NONSGML v1.0//EN
CALSCALE:GREGORIAN
METHOD:PUBLISH
X-WR-CALNAME:Silver City Radio
X-ORIGINAL-URL:https://silvercityradio.com
X-WR-CALDESC:Events for Silver City Radio
REFRESH-INTERVAL;VALUE=DURATION:PT1H
X-Robots-Tag:noindex
X-PUBLISHED-TTL:PT1H
BEGIN:VTIMEZONE
TZID:UTC
BEGIN:STANDARD
TZOFFSETFROM:+0000
TZOFFSETTO:+0000
TZNAME:UTC
DTSTART:20190101T000000
END:STANDARD
END:VTIMEZONE
BEGIN:VEVENT
DTSTART;TZID=UTC:20191223T090000
DTEND;TZID=UTC:20191223T170000
DTSTAMP:20260421T005913
CREATED:20191212T163503Z
LAST-MODIFIED:20191212T163503Z
UID:10001383-1577091600-1577120400@silvercityradio.com
SUMMARY:Grant County Public Health Flu Shot Clinic
DESCRIPTION:The New Mexico Department of Health’s Grant County Public Health Office\, located 2610 North Silver Street in Silver City\, NM will host a flu shot clinic on Monday\, December 23rd\, 2019 from 9 am – 12 pm and 1 pm – 4 pm. The annual flu vaccination is available for no charge for children and uninsured adults\, while supplies last. The seasonal flu vaccine protects against the influenza viruses which are expected to be most common during the 2019-2020 flu season. Vaccination remains the best protection against the flu.
URL:https://silvercityradio.com/event/grant-county-public-health-flu-shot-clinic/
LOCATION:Grant County Public Health Office\, 2610 N. Silver Street
CATEGORIES:Health Event
END:VEVENT
BEGIN:VEVENT
DTSTART;TZID=UTC:20191223T120000
DTEND;TZID=UTC:20191223T130000
DTSTAMP:20260421T005913
CREATED:20191218T164103Z
LAST-MODIFIED:20191218T164103Z
UID:10001398-1577102400-1577106000@silvercityradio.com
SUMMARY:New Hope Al-Anon Family Group Meeting
DESCRIPTION:The New Hope Al-Anon Family Group will be meeting on Monday\, December 23rd from 12 Noon to 1:00 P.M. at the First Presbyterian Church in Silver City. Al Anon Family Groups are open meetings for family and friends of alcoholics. For more information\, call 575-313-7891.
URL:https://silvercityradio.com/event/new-hope-al-anon-family-group-meeting/
LOCATION:First Presbyterian Church Silver City\, 1915 North Swan Street\, Silver City\, NM\, 88062-1014\, United States
END:VEVENT
END:VCALENDAR