BEGIN:VCALENDAR
VERSION:2.0
PRODID:-//Silver City Radio - ECPv6.3.3.1//NONSGML v1.0//EN
CALSCALE:GREGORIAN
METHOD:PUBLISH
X-WR-CALNAME:Silver City Radio
X-ORIGINAL-URL:https://silvercityradio.com
X-WR-CALDESC:Events for Silver City Radio
REFRESH-INTERVAL;VALUE=DURATION:PT1H
X-Robots-Tag:noindex
X-PUBLISHED-TTL:PT1H
BEGIN:VTIMEZONE
TZID:UTC
BEGIN:STANDARD
TZOFFSETFROM:+0000
TZOFFSETTO:+0000
TZNAME:UTC
DTSTART:20190101T000000
END:STANDARD
END:VTIMEZONE
BEGIN:VEVENT
DTSTART;TZID=UTC:20191222T140000
DTEND;TZID=UTC:20191222T180000
DTSTAMP:20260421T043741
CREATED:20191217T215117Z
LAST-MODIFIED:20191217T215319Z
UID:10001392-1577023200-1577037600@silvercityradio.com
SUMMARY:Deming Elks Lodge Kid's BINGO Night
DESCRIPTION:The Deming Elks Lodge 2750 will host a Christmas Kids’ Bingo at 2:00 P.M. on Sunday\, Dec. 22nd\, at the  Elks Lodge located at 3401 Raymond Reed Boulevard in Deming. The Bingo is free to school-age children and Santa will be paying a visit. Kids must be accompanied by an adult.
URL:https://silvercityradio.com/event/deming-elks-lodge-kids-bingo-night/
LOCATION:Deming Elks Lodge\, 3401 Raymond Reed Boulevard\, Deming\, NM\, United States
CATEGORIES:Kids Event
END:VEVENT
END:VCALENDAR