BEGIN:VCALENDAR
VERSION:2.0
PRODID:-//Silver City Radio - ECPv6.3.3.1//NONSGML v1.0//EN
CALSCALE:GREGORIAN
METHOD:PUBLISH
X-WR-CALNAME:Silver City Radio
X-ORIGINAL-URL:https://silvercityradio.com
X-WR-CALDESC:Events for Silver City Radio
REFRESH-INTERVAL;VALUE=DURATION:PT1H
X-Robots-Tag:noindex
X-PUBLISHED-TTL:PT1H
BEGIN:VTIMEZONE
TZID:UTC
BEGIN:STANDARD
TZOFFSETFROM:+0000
TZOFFSETTO:+0000
TZNAME:UTC
DTSTART:20190101T000000
END:STANDARD
END:VTIMEZONE
BEGIN:VEVENT
DTSTART;TZID=UTC:20191214T090000
DTEND;TZID=UTC:20191214T120000
DTSTAMP:20260421T005915
CREATED:20191127T173926Z
LAST-MODIFIED:20191127T173926Z
UID:10001373-1576314000-1576324800@silvercityradio.com
SUMMARY:Humane Society Shot Clinic
DESCRIPTION:The High Desert Humane Society in Silver City will be holding its monthly reduce rate rabies vaccination clinic on Saturday\, December 14th from 9:00 a.m. to 12 noon at the High Desert Humane Society located at 3050 South Cougar Way.  No appointment is necessary. Please have all dogs on a leash and all cats in a carrier.
URL:https://silvercityradio.com/event/humane-society-shot-clinic-5/
LOCATION:High Desert Humane Society\, 3050 Cougar Way\, Silver City\, NM\, 88061\, United States
CATEGORIES:Health Event
END:VEVENT
BEGIN:VEVENT
DTSTART;TZID=UTC:20191214T100000
DTEND;TZID=UTC:20191214T110000
DTSTAMP:20260421T005915
CREATED:20191030T175808Z
LAST-MODIFIED:20191030T184914Z
UID:10001327-1576317600-1576321200@silvercityradio.com
SUMMARY:Fort Bayard National Cemetery Wreaths Across America Ceremony
DESCRIPTION:The Fort Bayard National Cemetery Wreaths Across America national remembrance ceremony is scheduled for Saturday\, December 14th at 10:00 A.M. Volunteers are needed for wreath placement on Friday December 13th. Visit Fort Bayard National Cemetery Wreaths America on Facebook for more information.
URL:https://silvercityradio.com/event/fort-bayard-national-cemetery-wreaths-across-america-ceremony/
LOCATION:Fort Bayard National Cemetery\, 200 Cam De Paz\, Fort Bayard\, NM\, 88036\, United States
CATEGORIES:Presentation
END:VEVENT
BEGIN:VEVENT
DTSTART;TZID=UTC:20191214T133000
DTEND;TZID=UTC:20191214T153000
DTSTAMP:20260421T005915
CREATED:20191120T220124Z
LAST-MODIFIED:20191120T220141Z
UID:10001363-1576330200-1576337400@silvercityradio.com
SUMMARY:Victorian Christmas Ornament Crafting
DESCRIPTION:There will be Christmas Crafting at the Silver City Museum Annex located at 302 West Broadway on Saturday\, December 14th from 1:30 to 3:30 P.M. All ages are welcome to come make their own Victorian Christmas ornaments. \n 
URL:https://silvercityradio.com/event/victorian-christmas-ornament-crafting/
LOCATION:Silver City Museum Annex\, 302 West Broadway\, Silver City\, NM\, United States
CATEGORIES:Craft
END:VEVENT
BEGIN:VEVENT
DTSTART;TZID=UTC:20191214T170000
DTEND;TZID=UTC:20191214T183000
DTSTAMP:20260421T005915
CREATED:20191212T174038Z
LAST-MODIFIED:20191212T174038Z
UID:10001389-1576342800-1576348200@silvercityradio.com
SUMMARY:Friends of Rockhound State Park Holiday Event
DESCRIPTION:Stroll amongst hundreds of luminarias lighting the walkways on Saturday\, December 14th from 5:00 to 6:30 P.M. at Friends of Rockhound State Park located at 9880 Stirrup Road Southeast in Deming. Bring a new unwrapped toy for the Marines Toys for Tots program.There will be music\, hot cider and cookies\, and a visit by Santa! This event is free and open to the public.
URL:https://silvercityradio.com/event/friends-of-rockhound-state-park-holiday-event/
LOCATION:Rockhound State Park Visitor Center\, 9880 Stirrup Road SE\, Deming\, NM\, United States
CATEGORIES:Holiday
END:VEVENT
END:VCALENDAR