BEGIN:VCALENDAR
VERSION:2.0
PRODID:-//Silver City Radio - ECPv6.3.3.1//NONSGML v1.0//EN
CALSCALE:GREGORIAN
METHOD:PUBLISH
X-ORIGINAL-URL:https://silvercityradio.com
X-WR-CALDESC:Events for Silver City Radio
REFRESH-INTERVAL;VALUE=DURATION:PT1H
X-Robots-Tag:noindex
X-PUBLISHED-TTL:PT1H
BEGIN:VTIMEZONE
TZID:UTC
BEGIN:STANDARD
TZOFFSETFROM:+0000
TZOFFSETTO:+0000
TZNAME:UTC
DTSTART:20190101T000000
END:STANDARD
END:VTIMEZONE
BEGIN:VEVENT
DTSTART;TZID=UTC:20191206T160000
DTEND;TZID=UTC:20191206T210000
DTSTAMP:20260421T024615
CREATED:20191118T174730Z
LAST-MODIFIED:20191118T174730Z
UID:10001356-1575648000-1575666000@silvercityradio.com
SUMMARY:Nativity Festival Hosted by Silver City Church of Jesus Christ of Latter Day Saints
DESCRIPTION:There is a “Nativity Festival” hosted by the Church of Jesus Christ of Latter Day Saints located at 3755 North Swan Street in Silver City on Friday\, December 6th from 4:00 P.M. to 9:00 P.M. and Saturday December 7th from 10:00 A.M. to 4:00 P.M. The festival will also feature live music. For more information\, call 575-534-7599.
URL:https://silvercityradio.com/event/nativity-festival-hosted-by-silver-city-church-of-jesus-christ-of-latter-day-saints/
LOCATION:Church of Jesus Christ of Latter Day Saints\, 3755 North Swan Street\, Silver City\, NM\, 88062-1014\, United States
END:VEVENT
BEGIN:VEVENT
DTSTART;TZID=UTC:20191206T170000
DTEND;TZID=UTC:20191206T183000
DTSTAMP:20260421T024615
CREATED:20191119T164001Z
LAST-MODIFIED:20191119T164018Z
UID:10001359-1575651600-1575657000@silvercityradio.com
SUMMARY:8th Annual Kiwanis Youth Christmas Sing-off
DESCRIPTION:The Kiwanis Club of Silver City is hosting their 8th Annual Youth Christmas Sing off on Friday\, December 6th starting at 5:00 P.M. at Gough Park in Silver City. This is a free family event will feature Kiwanis sponsored your clubs compete for cash prizes donated by Western Bank of Silver City. See the lighting of the Gazebo and after the competition\, then walk over the First Savings Bank for hot coca and cookies.
URL:https://silvercityradio.com/event/8th-annual-kiwanis-youth-christmas-sing-off/
CATEGORIES:Concert,Entertainment,Kids Event,Volunteers
END:VEVENT
BEGIN:VEVENT
DTSTART;TZID=UTC:20191206T170000
DTEND;TZID=UTC:20191206T210000
DTSTAMP:20260421T024615
CREATED:20191119T205210Z
LAST-MODIFIED:20191119T205210Z
UID:10001361-1575651600-1575666000@silvercityradio.com
SUMMARY:Copper Little League 1st Annual Christmas Festival
DESCRIPTION:Copper Little League is hosting the 1st Annual Christmas Festival Friday and Saturday December 6th and 7th from 5:00 to 9:00 P.M. at the Bayard Community Center located at 290 Hurley Avenue in Bayard. All ages are welcome to enjoy a Tree Festival\, Food\, Baked Goods\, Photos\, Hay Rides\, Christmas music and games\, and of course\, a visit from Santa Claus.
URL:https://silvercityradio.com/event/copper-little-league-1st-annual-christmas-festival-2/
LOCATION:Bayard Community Center\, 290 Hurley Avenue\, Bayard\, United States
CATEGORIES:Entertainment,Fundraiser,Holiday,Kids Event
END:VEVENT
BEGIN:VEVENT
DTSTART;TZID=UTC:20191206T180000
DTEND;TZID=UTC:20191206T193000
DTSTAMP:20260421T024615
CREATED:20191121T220848Z
LAST-MODIFIED:20191121T221050Z
UID:10001366-1575655200-1575660600@silvercityradio.com
SUMMARY:Lordsburg Lighted Christmas Parade
DESCRIPTION:Lordsburg will be hosting the annual Christmas Light Parade on Friday\, December 6th at dusk. Parade line up will be held at the fairgrounds at 6:00 P.M. Following the Parade enjoy Moonlight Madness at the Special Events Center located at 502 West 2nd Street in Lordsburg.
URL:https://silvercityradio.com/event/lordsburg-lighted-christmas-parade-2/
CATEGORIES:Holiday
END:VEVENT
BEGIN:VEVENT
DTSTART;TZID=UTC:20191206T180000
DTEND;TZID=UTC:20191206T200000
DTSTAMP:20260421T024615
CREATED:20191122T203253Z
LAST-MODIFIED:20191122T203253Z
UID:10001370-1575655200-1575662400@silvercityradio.com
SUMMARY:Silver City Library Hosts Violinist Jack Glatzer
DESCRIPTION:The Silver City Public Library\, located at 515 West College Avenue is hosting a concert featuring violinist Jack Glatzer. on Friday\, December 6th\, at 6:00pm. Doors open 30 minutes before the beginning of the concert. First come\, first seated. For more information visit silver city public library dot org or call 575-538-3672.
URL:https://silvercityradio.com/event/silver-city-library-hosts-violinist-jack-glatzer/
LOCATION:Silver City Public LIbrary\, 515 W. College Avenue\, Silver City\, NM\, United States
CATEGORIES:Entertainment
END:VEVENT
BEGIN:VEVENT
DTSTART;TZID=UTC:20191206T180000
DTEND;TZID=UTC:20191206T200000
DTSTAMP:20260421T024615
CREATED:20191122T204112Z
LAST-MODIFIED:20191122T204112Z
UID:10001371-1575655200-1575662400@silvercityradio.com
SUMMARY:WNMU's "Jingle & Mingle" Community Event
DESCRIPTION:Western New Mexico University Cultural Affairs presents “Jingle and Mingle on Friday\, December 6th from 6:00 to 8:00 P.M. at Light Hall Patio on the WNMU campus in Silver City. Join the festivities for treats\, games\, merriment\, and a reading of The Night Before Christmas by WNMU President Joe Shepard. For details\, visit wnmu.edu/culture.
URL:https://silvercityradio.com/event/wnmus-jingle-mingle-community-event/
LOCATION:WNMU Light Hall Patio
CATEGORIES:Entertainment
END:VEVENT
END:VCALENDAR