BEGIN:VCALENDAR
VERSION:2.0
PRODID:-//Silver City Radio - ECPv6.3.3.1//NONSGML v1.0//EN
CALSCALE:GREGORIAN
METHOD:PUBLISH
X-ORIGINAL-URL:https://silvercityradio.com
X-WR-CALDESC:Events for Silver City Radio
REFRESH-INTERVAL;VALUE=DURATION:PT1H
X-Robots-Tag:noindex
X-PUBLISHED-TTL:PT1H
BEGIN:VTIMEZONE
TZID:UTC
BEGIN:STANDARD
TZOFFSETFROM:+0000
TZOFFSETTO:+0000
TZNAME:UTC
DTSTART:20190101T000000
END:STANDARD
END:VTIMEZONE
BEGIN:VEVENT
DTSTART;TZID=UTC:20191205T140000
DTEND;TZID=UTC:20191205T160000
DTSTAMP:20260421T043716
CREATED:20191107T213226Z
LAST-MODIFIED:20191107T213226Z
UID:10001339-1575554400-1575561600@silvercityradio.com
SUMMARY:NMDH/Hidalgo County Free Flu Shot Clinic
DESCRIPTION:The New Mexico Department of Health’s Hidalgo County Public Health Office\, located at 530 De Moss St in Lordsburg\, will host a flu shot clinic Thursday\, December 5th from 10:00 A.M. to 12 Noon and 2:00 to 4:00 P.M. The annual flu vaccination is available for no charge for children and uninsured adults\, while supplies last.
URL:https://silvercityradio.com/event/nmdh-hidalgo-county-free-flu-shot-clinic/
CATEGORIES:Health Event
END:VEVENT
BEGIN:VEVENT
DTSTART;TZID=UTC:20191205T163000
DTEND;TZID=UTC:20191205T183000
DTSTAMP:20260421T043716
CREATED:20191122T202152Z
LAST-MODIFIED:20191122T202450Z
UID:10001369-1575563400-1575570600@silvercityradio.com
SUMMARY:WNMU Fabric Art Exposition and Reception
DESCRIPTION:Western New Mexico University will host fabric artist Anne Parker in the McCray Gallery of Contemporary Arts with a reception at 4:30 p.m. on Thursday\, December 5th. Parker’s quilts will hang at McCray Gallery through February 6th\, 2020\, when Parker will give a closing lecture in Parotti Hall at 6:30 p.m. Admission is free.
URL:https://silvercityradio.com/event/wnmu-fabric-art-exposition-and-reception/
LOCATION:WNMU McCray Art Gallery\, WNMU\, Silver City\, United States
CATEGORIES:Presentation
END:VEVENT
BEGIN:VEVENT
DTSTART;TZID=UTC:20191205T170000
DTEND;TZID=UTC:20191205T193000
DTSTAMP:20260421T043716
CREATED:20191127T173700Z
LAST-MODIFIED:20191127T173700Z
UID:10001372-1575565200-1575574200@silvercityradio.com
SUMMARY:Veterans Town Hall
DESCRIPTION:New Mexico House of Representative Rebecca Dow\, is inviting the public to attend and participate in a “Veterans Town Hall” on December 5th from 5:00 to 7:30 P.M. at the Silver City American Legion building located at 409 West College Avenue in Silver City. the New Mexico Department of Veterans Services Secretary Brigadier General\, Judy Griego will speaking and there will be a question and answer period.
URL:https://silvercityradio.com/event/veterans-town-hall/
LOCATION:Allingham-Golding American Legion Post #18\, 409 W. College Avenue\, Silver City
CATEGORIES:Meeting,Presentation
END:VEVENT
BEGIN:VEVENT
DTSTART;TZID=UTC:20191205T183000
DTEND;TZID=UTC:20191205T200000
DTSTAMP:20260421T043716
CREATED:20191127T175653Z
LAST-MODIFIED:20191127T175653Z
UID:10001375-1575570600-1575576000@silvercityradio.com
SUMMARY:Calvary Christian Jeff Anderson Concert
DESCRIPTION:Calvary Chapel in Silver City on December 5th is presenting Grammy nominated artist Jeff Anderson  in concert sharing music from his new album “All Things New”. The concert begins at 6:30 P.M. Visit jeffandersononline.com for more information.
URL:https://silvercityradio.com/event/calvary-christian-jeff-anderson-concert/
LOCATION:Calvary Christian Church
CATEGORIES:Concert
END:VEVENT
END:VCALENDAR