BEGIN:VCALENDAR
VERSION:2.0
PRODID:-//Silver City Radio - ECPv6.3.3.1//NONSGML v1.0//EN
CALSCALE:GREGORIAN
METHOD:PUBLISH
X-ORIGINAL-URL:https://silvercityradio.com
X-WR-CALDESC:Events for Silver City Radio
REFRESH-INTERVAL;VALUE=DURATION:PT1H
X-Robots-Tag:noindex
X-PUBLISHED-TTL:PT1H
BEGIN:VTIMEZONE
TZID:UTC
BEGIN:STANDARD
TZOFFSETFROM:+0000
TZOFFSETTO:+0000
TZNAME:UTC
DTSTART:20190101T000000
END:STANDARD
END:VTIMEZONE
BEGIN:VEVENT
DTSTART;VALUE=DATE:20191125
DTEND;VALUE=DATE:20191126
DTSTAMP:20260421T024708
CREATED:20191112T232340Z
LAST-MODIFIED:20191112T232340Z
UID:10001346-1574640000-1574726399@silvercityradio.com
SUMMARY:Gila National Forest Christmas Tree Cutting Permits
DESCRIPTION:The Gila National Forest is issuing Christmas Tree cutting permits starting on Monday November 25th. Permits sell for $5.00 each (for any species) with a limit of one permit per household. Visit the Gila National Forest page on Facebook or online at fs.usda.gov/gila for more information.
URL:https://silvercityradio.com/event/gila-national-forest-christmas-tree-cutting-permits/
CATEGORIES:Holiday
END:VEVENT
BEGIN:VEVENT
DTSTART;TZID=UTC:20191125T140000
DTEND;TZID=UTC:20191125T160000
DTSTAMP:20260421T024708
CREATED:20191112T234816Z
LAST-MODIFIED:20191112T234816Z
UID:10001348-1574690400-1574697600@silvercityradio.com
SUMMARY:Bayard City Council Special Meeting
DESCRIPTION:The Bayard City Council will conduct a Special Meeting at 2:00 p.m. Monday\, November 25th\, at the Bayard City Hall. Items on the agenda relate to Wastewater System User Fee Increase for Colonias Infrastructure Dewatering System Project and temporary salary adjustments for maintenance department personnel. A copy of the Agenda in its entirety may be obtained at the City Hall Administrative Office during regular business hours by the Friday before the scheduled meeting date. A Closed Executive Session will be held pursuant to State Statues 10-15-1(H-2)\, NMSA 1978 for personnel.
URL:https://silvercityradio.com/event/bayard-city-council-special-meeting/
LOCATION:Bayard City Hall\, 800 Central Avenue\, Bayard\, 88061\, United States
CATEGORIES:Meeting
END:VEVENT
END:VCALENDAR