BEGIN:VCALENDAR
VERSION:2.0
PRODID:-//Silver City Radio - ECPv6.3.3.1//NONSGML v1.0//EN
CALSCALE:GREGORIAN
METHOD:PUBLISH
X-ORIGINAL-URL:https://silvercityradio.com
X-WR-CALDESC:Events for Silver City Radio
REFRESH-INTERVAL;VALUE=DURATION:PT1H
X-Robots-Tag:noindex
X-PUBLISHED-TTL:PT1H
BEGIN:VTIMEZONE
TZID:UTC
BEGIN:STANDARD
TZOFFSETFROM:+0000
TZOFFSETTO:+0000
TZNAME:UTC
DTSTART:20190101T000000
END:STANDARD
END:VTIMEZONE
BEGIN:VEVENT
DTSTART;VALUE=DATE:20191123
DTEND;VALUE=DATE:20191125
DTSTAMP:20260423T122303
CREATED:20191121T221233Z
LAST-MODIFIED:20191121T221313Z
UID:10001367-1574467200-1574639999@silvercityradio.com
SUMMARY:Kickoff the Holidays in Rodeo NM
DESCRIPTION:Kickoff the Holidays in Rodeo at the Chiricahua Desert Museum & Geronimo Event Center Saturday and Sunday\, November 23rd and 24th from 9:00 A.M. to 5:00 P.M. Admission is free and there will be holiday music and refreshments for everyone. The museum is located on New Mexico Highway 80\, 2 miles north of Rodeo.
URL:https://silvercityradio.com/event/kickoff-the-holidays-in-rodeo-nm/
END:VEVENT
BEGIN:VEVENT
DTSTART;TZID=UTC:20191124T120000
DTEND;TZID=UTC:20191124T160000
DTSTAMP:20260423T122303
CREATED:20191106T164525Z
LAST-MODIFIED:20191106T164525Z
UID:10001335-1574596800-1574611200@silvercityradio.com
SUMMARY:W & N Enterprises "A Time for Sharing" Free Community Thanksgiving Dinner
DESCRIPTION:W & N Enterprises is hosting their Annual Community Thanksgiving Dinner “A Time for Sharing” on Sunday\, November 24th starting a 12 Noon at the Grant County Veterans Memorial Business & Conference Center\, located at 3031 U.S Highway 180 East in Silver City. Santa Claus will there giving treats to the kids along with live music provided by the Jericho Singers. This event is free to the public.
URL:https://silvercityradio.com/event/w-n-enterprises-a-time-for-sharing-free-community-thanksgiving-dinner/
LOCATION:Grant County Veteran’s Memorial Business and Conference Center\, 3031 Highway 180 East\, Silver City\, NM\, United States
CATEGORIES:Food Event,Volunteers
END:VEVENT
END:VCALENDAR