BEGIN:VCALENDAR
VERSION:2.0
PRODID:-//Silver City Radio - ECPv6.3.3.1//NONSGML v1.0//EN
CALSCALE:GREGORIAN
METHOD:PUBLISH
X-ORIGINAL-URL:https://silvercityradio.com
X-WR-CALDESC:Events for Silver City Radio
REFRESH-INTERVAL;VALUE=DURATION:PT1H
X-Robots-Tag:noindex
X-PUBLISHED-TTL:PT1H
BEGIN:VTIMEZONE
TZID:UTC
BEGIN:STANDARD
TZOFFSETFROM:+0000
TZOFFSETTO:+0000
TZNAME:UTC
DTSTART:20190101T000000
END:STANDARD
END:VTIMEZONE
BEGIN:VEVENT
DTSTART;VALUE=DATE:20190612
DTEND;VALUE=DATE:20190616
DTSTAMP:20260421T024743
CREATED:20190520T230721Z
LAST-MODIFIED:20190520T230721Z
UID:10001175-1560297600-1560643199@silvercityradio.com
SUMMARY:29th Annual Wild Wild West Pro Rodeo
DESCRIPTION:The 29th Annual Wild Wild West Pro Rodeo is being held June 12th through June 15th at the Southwest Horseman’s Arena. Gates open at 6:30 P.M. with Mutton Bustin’ at 7:30 followed by PRCA rodeo action at 8:00 P.M. There will a Family Dance on Friday and Saturday night after the rodeo on the slab by Lone Mountain 4-H. For more information an d a complete schedule of events\, visit silvercityprorodeo.com.
URL:https://silvercityradio.com/event/29th-annual-wild-wild-west-pro-rodeo/
LOCATION:Southwest Horseman’s Arena\, 2 Caballero Drive\, Silver City\, NM\, 88061\, United States
CATEGORIES:Entertainment,Sports
END:VEVENT
BEGIN:VEVENT
DTSTART;TZID=UTC:20190615T080000
DTEND;TZID=UTC:20190615T130000
DTSTAMP:20260421T024743
CREATED:20190530T220645Z
LAST-MODIFIED:20190530T220927Z
UID:10001181-1560585600-1560603600@silvercityradio.com
SUMMARY:Village of Columbus Founding Day Event
DESCRIPTION:The Village of Columbus will be celebrating their 128th “Founding Day” on Saturday\, June 15th from 8:00 A.M. to 1:00 P.M. There will be a parade\, entertainment\, arts & crafts and food vendors. An official “ribbon cutting” begins at 10:30 A.M. at the Gazebo.
URL:https://silvercityradio.com/event/village-of-columbus-founding-day-event/
LOCATION:Columbus Plaza
CATEGORIES:Entertainment,Food Event,Holiday,Kids Event
END:VEVENT
BEGIN:VEVENT
DTSTART;TZID=UTC:20190615T120000
DTEND;TZID=UTC:20190615T150000
DTSTAMP:20260421T024743
CREATED:20190530T222429Z
LAST-MODIFIED:20190530T222429Z
UID:10001185-1560600000-1560610800@silvercityradio.com
SUMMARY:Silver City Museum "Rodeo Day"
DESCRIPTION:The Silver City Museum is providing Rodeo-related fun for the entire family with “Rodeo Day” on Saturday\, June 15th from 12:00 noon to 3:00 P.M. at the museum located at 312 West Broadway in Silver City. This free event celebrates ranching in Grant County and features live cowboy poetry\, free raffle for western jewelry\, and straw bale dummy roping for the kids.
URL:https://silvercityradio.com/event/silver-city-museum-rodeo-day/
LOCATION:Silver City Museum\, 312 W. Broadway\, Silver City\, NM\, 88061\, United States
CATEGORIES:Entertainment,Presentation
END:VEVENT
END:VCALENDAR