BEGIN:VCALENDAR
VERSION:2.0
PRODID:-//Silver City Radio - ECPv6.3.3.1//NONSGML v1.0//EN
CALSCALE:GREGORIAN
METHOD:PUBLISH
X-ORIGINAL-URL:https://silvercityradio.com
X-WR-CALDESC:Events for Silver City Radio
REFRESH-INTERVAL;VALUE=DURATION:PT1H
X-Robots-Tag:noindex
X-PUBLISHED-TTL:PT1H
BEGIN:VTIMEZONE
TZID:UTC
BEGIN:STANDARD
TZOFFSETFROM:+0000
TZOFFSETTO:+0000
TZNAME:UTC
DTSTART:20190101T000000
END:STANDARD
END:VTIMEZONE
BEGIN:VEVENT
DTSTART;TZID=UTC:20190411T120000
DTEND;TZID=UTC:20190411T130000
DTSTAMP:20260423T070234
CREATED:20190403T220213Z
LAST-MODIFIED:20190403T220213Z
UID:10001111-1554984000-1554987600@silvercityradio.com
SUMMARY:NPG Presentation: Synergistic Meetings
DESCRIPTION:Learn how to hold an effective meeting on Thursday\, April 11th from noon to 1 p.m. at the Western New Mexico University Miller Library Back Room. Nonprofit Resource Group consultant\, Sunny Yates Kellerman\, will share her secrets for synergistic meetings. The training is free but seating is limited. To reserve your spot\, call 575-597-0035.
URL:https://silvercityradio.com/event/npg-presentation-synergistic-meetings/
LOCATION:WNMU MIler Library
END:VEVENT
END:VCALENDAR