BEGIN:VCALENDAR
VERSION:2.0
PRODID:-//Silver City Radio - ECPv6.3.3.1//NONSGML v1.0//EN
CALSCALE:GREGORIAN
METHOD:PUBLISH
X-ORIGINAL-URL:https://silvercityradio.com
X-WR-CALDESC:Events for Silver City Radio
REFRESH-INTERVAL;VALUE=DURATION:PT1H
X-Robots-Tag:noindex
X-PUBLISHED-TTL:PT1H
BEGIN:VTIMEZONE
TZID:UTC
BEGIN:STANDARD
TZOFFSETFROM:+0000
TZOFFSETTO:+0000
TZNAME:UTC
DTSTART:20170101T000000
END:STANDARD
END:VTIMEZONE
BEGIN:VEVENT
DTSTART;VALUE=DATE:20170722
DTEND;VALUE=DATE:20170731
DTSTAMP:20260423T202158
CREATED:20170403T202759Z
LAST-MODIFIED:20170403T202759Z
UID:10000581-1500681600-1501459199@silvercityradio.com
SUMMARY:Silver City Clay Festival 2017
DESCRIPTION:The Silver City Clay Festival will take place July 22nd through the 30th in Silver City.  This year’s festival will explore clay art\, archaeology\, petroglyphs\, mining and geology\, and farm-to-table foods and land use.  Visit www.ClayFestival.com for details on events
URL:https://silvercityradio.com/event/silver-city-clay-festival-2017/
CATEGORIES:Adult Event,Craft,Entertainment,Kids Event
END:VEVENT
BEGIN:VEVENT
DTSTART;TZID=UTC:20170727T093000
DTEND;TZID=UTC:20170727T150000
DTSTAMP:20260423T202158
CREATED:20170710T164345Z
LAST-MODIFIED:20170710T164345Z
UID:10000691-1501147800-1501167600@silvercityradio.com
SUMMARY:Rural Bookmobile West July Schedule
DESCRIPTION:On Thursday\, July 27th\, the Rural Bookmobile West will be in Mimbres at the Living Harvest Bakery at 9:45\, at the Sapillo Creek Fire Station at Lake Roberts at 11:45\, and Doc Campbell’s Post near the Gila Cliff Dwellings at 2:30.  Call 505-841-5250
URL:https://silvercityradio.com/event/rural-bookmobile-west-july-schedule/
CATEGORIES:Entertainment
END:VEVENT
BEGIN:VEVENT
DTSTART;TZID=UTC:20170727T130000
DTEND;TZID=UTC:20170727T150000
DTSTAMP:20260423T202158
CREATED:20170710T162710Z
LAST-MODIFIED:20170710T162710Z
UID:10000682-1501160400-1501167600@silvercityradio.com
SUMMARY:Girl Scouts: Archery
DESCRIPTION:Girl Scouts of the Desert Southwest will offer free programs to all girls entering 4th through 12th grade throughout the month of July.  On July 27th from 1 to 3 pm Girls will meet at the Convention Center for Archery.  Learn more by calling Annette at 538-2481
URL:https://silvercityradio.com/event/girl-scouts-archery-2/
LOCATION:Grant County Veteran’s Memorial Convention and Conference Center\, 1400 Highway 180 East\, Silver City\, NM\, 88061\, United States
CATEGORIES:Kids Event
END:VEVENT
END:VCALENDAR