BEGIN:VCALENDAR
VERSION:2.0
PRODID:-//Silver City Radio - ECPv6.3.3.1//NONSGML v1.0//EN
CALSCALE:GREGORIAN
METHOD:PUBLISH
X-WR-CALNAME:Silver City Radio
X-ORIGINAL-URL:https://silvercityradio.com
X-WR-CALDESC:Events for Silver City Radio
REFRESH-INTERVAL;VALUE=DURATION:PT1H
X-Robots-Tag:noindex
X-PUBLISHED-TTL:PT1H
BEGIN:VTIMEZONE
TZID:UTC
BEGIN:STANDARD
TZOFFSETFROM:+0000
TZOFFSETTO:+0000
TZNAME:UTC
DTSTART:20170101T000000
END:STANDARD
END:VTIMEZONE
BEGIN:VEVENT
DTSTART;TZID=UTC:20170710T100000
DTEND;TZID=UTC:20170710T120000
DTSTAMP:20260422T122618
CREATED:20170710T154650Z
LAST-MODIFIED:20170710T154650Z
UID:10000670-1499680800-1499688000@silvercityradio.com
SUMMARY:Girl Scouts: Computer Fun at the Library
DESCRIPTION:Girl Scouts of the Desert Southwest will offer free programs to all girls entering kinder through 12th grade throughout the month of July.  on July 10th from 10 am to noon join the Girl Scouts at the Silver City Library for Computer fun.  Learn more by calling Annette at 538-2481
URL:https://silvercityradio.com/event/girl-scouts-computer-fun-at-the-library/
LOCATION:Silver City Public LIbrary\, 515 W. College Avenue\, Silver City\, NM\, United States
CATEGORIES:Kids Event
END:VEVENT
BEGIN:VEVENT
DTSTART;TZID=UTC:20170710T103000
DTEND;TZID=UTC:20170710T120000
DTSTAMP:20260422T122618
CREATED:20170710T154034Z
LAST-MODIFIED:20170710T154034Z
UID:10000668-1499682600-1499688000@silvercityradio.com
SUMMARY:Widowed Persons Monthly Meeting
DESCRIPTION:The Widowed and Single Persons of Grant County monthly meeting is scheduled for Monday\, July 10th beginning at 10:30 am at Cross Point Assembly of God Church.  Ellen Brown from the Forest Service will talk about Forest Service activities and current events.  Call 537-3643
URL:https://silvercityradio.com/event/widowed-persons-monthly-meeting-5/
LOCATION:Glad Tidings/Cross Point Assembly of God Church\, 11600 Highway 180 East\, Silver City\, NM\, 88061\, United States
CATEGORIES:Meeting
END:VEVENT
END:VCALENDAR