BEGIN:VCALENDAR
VERSION:2.0
PRODID:-//Silver City Radio - ECPv6.3.3.1//NONSGML v1.0//EN
CALSCALE:GREGORIAN
METHOD:PUBLISH
X-WR-CALNAME:Silver City Radio
X-ORIGINAL-URL:https://silvercityradio.com
X-WR-CALDESC:Events for Silver City Radio
REFRESH-INTERVAL;VALUE=DURATION:PT1H
X-Robots-Tag:noindex
X-PUBLISHED-TTL:PT1H
BEGIN:VTIMEZONE
TZID:UTC
BEGIN:STANDARD
TZOFFSETFROM:+0000
TZOFFSETTO:+0000
TZNAME:UTC
DTSTART:20170101T000000
END:STANDARD
END:VTIMEZONE
BEGIN:VEVENT
DTSTART;VALUE=DATE:20170704
DTEND;VALUE=DATE:20170705
DTSTAMP:20260421T024304
CREATED:20170627T173030Z
LAST-MODIFIED:20170627T173030Z
UID:10000662-1499126400-1499212799@silvercityradio.com
SUMMARY:Independence Day Celebration in Silver City
DESCRIPTION:Heroes: Yesterday\, Today and Tomorrow is the theme for this year’s Independence Day Celebration in Silver City.  Join your friends and neighbors in Gough Park Downtown Silver City for the Kiwanis Pancake Breakfast\, live music\, vendors\, fundraisers and more all day long – and don’t miss the parade beginning at 10 am and the First American Bank Fireworks Show when it gets dark.  Call 538-3785
URL:https://silvercityradio.com/event/independence-day-celebration-in-silver-city/
LOCATION:Gough Park
CATEGORIES:Adult Event,Entertainment,Food Event,Holiday,Kids Event
END:VEVENT
BEGIN:VEVENT
DTSTART;VALUE=DATE:20170704
DTEND;VALUE=DATE:20170705
DTSTAMP:20260421T024304
CREATED:20170627T192333Z
LAST-MODIFIED:20170627T192333Z
UID:10000665-1499126400-1499212799@silvercityradio.com
SUMMARY:Independence Day Celebration in Lordsburg & Rodeo
DESCRIPTION:For our Hidalgo County listeners\, don’t miss one of the finest 4th of July Firework displays in the area!  The display begins at dusk at Short Park in Lordsburg.  In Rodeo\, don’t miss the parade\, community BBQ\, cake auction\, dance and fireworks display.  Call 542-9864
URL:https://silvercityradio.com/event/independence-day-celebration-in-lordsburg-rodeo/
CATEGORIES:Entertainment,Holiday
END:VEVENT
BEGIN:VEVENT
DTSTART;TZID=UTC:20170704T070000
DTEND;TZID=UTC:20170704T140000
DTSTAMP:20260421T024304
CREATED:20170627T173332Z
LAST-MODIFIED:20170627T192515Z
UID:10000663-1499151600-1499176800@silvercityradio.com
SUMMARY:Kiwanis Pancake Breakfast and BBQ Lunch at Gough Park
DESCRIPTION:Kiwanis will be serving an all-you-can-eat Pancake Breakfast and BBQ Lunch at Gough Park during the 4th of July Festivities.  Also get into the Cobre Key Club drawing for a new Grill.  This is an annual fundraiser for Kiwanis and proceeds benefit Kiwanis mission to aid youth in our community
URL:https://silvercityradio.com/event/kiwanis-pancake-breakfast-and-bbq-lunch-at-gough-park/
LOCATION:Gough Park
CATEGORIES:Food Event,Fundraiser,Holiday
END:VEVENT
BEGIN:VEVENT
DTSTART;TZID=UTC:20170704T100000
DTEND;TZID=UTC:20170704T170000
DTSTAMP:20260421T024304
CREATED:20170627T173702Z
LAST-MODIFIED:20170627T173702Z
UID:10000664-1499162400-1499187600@silvercityradio.com
SUMMARY:Independence Day Celebration in Deming
DESCRIPTION:For our Deming listeners\, the Annual Fourth of July celebration will be held at the courthouse park from 10 am to 5pm.  The event will begin with a parade down Gold Street\, followed by festivities at the park including games\, music\, vendors\, food and prizes.  Call 546-9358
URL:https://silvercityradio.com/event/independence-day-celebration-in-deming/
LOCATION:Luna County Courthouse Park\, Deming\, United States
CATEGORIES:Entertainment,Holiday
END:VEVENT
END:VCALENDAR