BEGIN:VCALENDAR
VERSION:2.0
PRODID:-//Silver City Radio - ECPv6.3.3.1//NONSGML v1.0//EN
CALSCALE:GREGORIAN
METHOD:PUBLISH
X-WR-CALNAME:Silver City Radio
X-ORIGINAL-URL:https://silvercityradio.com
X-WR-CALDESC:Events for Silver City Radio
REFRESH-INTERVAL;VALUE=DURATION:PT1H
X-Robots-Tag:noindex
X-PUBLISHED-TTL:PT1H
BEGIN:VTIMEZONE
TZID:UTC
BEGIN:STANDARD
TZOFFSETFROM:+0000
TZOFFSETTO:+0000
TZNAME:UTC
DTSTART:20170101T000000
END:STANDARD
END:VTIMEZONE
BEGIN:VEVENT
DTSTART;TZID=UTC:20170628T080000
DTEND;TZID=UTC:20170628T170000
DTSTAMP:20260420T210406
CREATED:20170627T150947Z
LAST-MODIFIED:20170627T150947Z
UID:10000656-1498636800-1498669200@silvercityradio.com
SUMMARY:Last Day to Register Floats and Vendor Booths for Independence Day Celebration
DESCRIPTION:Heroes of Yesterday\, Today and Tomorrow will be the theme for this year’s Independence Day Parade in Silver City.  If you are interested in participating in the parade or having a vendor booth in Gough Park\, visit the July 4th calendar listing on the Chamber Website at SilverCity.org and click the link to submit an application.  The deadline to apply is June 28th.  Call 538-3785
URL:https://silvercityradio.com/event/last-day-to-register-floats-and-vendor-booths-for-independence-day-celebration/
LOCATION:Grant County Veteran’s Memorial Convention and Conference Center\, 1400 Highway 180 East\, Silver City\, NM\, 88061\, United States
CATEGORIES:Entertainment,Holiday
END:VEVENT
BEGIN:VEVENT
DTSTART;TZID=UTC:20170628T103000
DTEND;TZID=UTC:20170628T113000
DTSTAMP:20260420T210406
CREATED:20170627T150648Z
LAST-MODIFIED:20170627T150648Z
UID:10000655-1498645800-1498649400@silvercityradio.com
SUMMARY:Curious Chris the Singing Scientist
DESCRIPTION:Curious Chris\, the Singing Scientist\, will share acoustic music and hands-on science for curious young minds as part of the Summer Reading Program at the Silver City Public Library on Wednesday\, June 28th at 10:30 am.  Call 538-3672
URL:https://silvercityradio.com/event/curious-chris-the-singing-scientist/
LOCATION:Silver City Public LIbrary\, 515 W. College Avenue\, Silver City\, NM\, United States
CATEGORIES:Entertainment,Kids Event
END:VEVENT
END:VCALENDAR