BEGIN:VCALENDAR
VERSION:2.0
PRODID:-//Silver City Radio - ECPv6.3.3.1//NONSGML v1.0//EN
CALSCALE:GREGORIAN
METHOD:PUBLISH
X-ORIGINAL-URL:https://silvercityradio.com
X-WR-CALDESC:Events for Silver City Radio
REFRESH-INTERVAL;VALUE=DURATION:PT1H
X-Robots-Tag:noindex
X-PUBLISHED-TTL:PT1H
BEGIN:VTIMEZONE
TZID:UTC
BEGIN:STANDARD
TZOFFSETFROM:+0000
TZOFFSETTO:+0000
TZNAME:UTC
DTSTART:20170101T000000
END:STANDARD
END:VTIMEZONE
BEGIN:VEVENT
DTSTART;TZID=UTC:20170610T090000
DTEND;TZID=UTC:20170610T120000
DTSTAMP:20260420T210335
CREATED:20170605T162754Z
LAST-MODIFIED:20170605T162754Z
UID:10000649-1497085200-1497096000@silvercityradio.com
SUMMARY:Reduce-Rate Rabies Vaccination Clinic
DESCRIPTION:The Humane Society will hold its monthly reduce rate rabies vaccination clinic on Saturday\, June 10th from 9 am to noon at the High Desert Humane Society.  Take advantage of low-cost vaccinations\, de-wormer\, Micro-chipping and more.  Call 538-9261
URL:https://silvercityradio.com/event/reduce-rate-rabies-vaccination-clinic-14/
LOCATION:High Desert Humane Society\, 3050 Cougar Way\, Silver City\, NM\, 88061\, United States
CATEGORIES:Pet Event
END:VEVENT
BEGIN:VEVENT
DTSTART;TZID=UTC:20170610T110000
DTEND;TZID=UTC:20170610T150000
DTSTAMP:20260420T210335
CREATED:20170523T153757Z
LAST-MODIFIED:20170523T153757Z
UID:10000644-1497092400-1497106800@silvercityradio.com
SUMMARY:HMS Jump Into Summer!
DESCRIPTION:Join Hidalgo Medical Services at Gough Park in Silver City on Saturday\, June 10th from 11 am to 3 pm for the 9th annual Jump Into Summer Family Fun Day!  The event highlights the importance of family fitness and nutrition through fun activities\, games and booths
URL:https://silvercityradio.com/event/hms-jump-into-summer/
LOCATION:Gough Park
CATEGORIES:Entertainment,Health Event,Kids Event,Sports
END:VEVENT
BEGIN:VEVENT
DTSTART;TZID=UTC:20170610T150000
DTEND;TZID=UTC:20170610T210000
DTSTAMP:20260420T210335
CREATED:20170605T164142Z
LAST-MODIFIED:20170605T164142Z
UID:10000650-1497106800-1497128400@silvercityradio.com
SUMMARY:Way Out West Local Trade in Reserve
DESCRIPTION:Uncle Bill’s Bar in Reserve will host their annual Way Out West Local Trade on Saturday\, June 10th from 3 to 9 pm.  There will be Wine\, spirits and distillery beer tastings\, locally catered food\, and live music by CW Ayon.  Optional donations to Toys for Tots available.  The cost is $5 per person\, $8 per couple.  Call 533-6369
URL:https://silvercityradio.com/event/way-out-west-local-trade-in-reserve/
CATEGORIES:Entertainment,Fundraiser
END:VEVENT
END:VCALENDAR