BEGIN:VCALENDAR
VERSION:2.0
PRODID:-//Silver City Radio - ECPv6.3.3.1//NONSGML v1.0//EN
CALSCALE:GREGORIAN
METHOD:PUBLISH
X-WR-CALNAME:Silver City Radio
X-ORIGINAL-URL:https://silvercityradio.com
X-WR-CALDESC:Events for Silver City Radio
REFRESH-INTERVAL;VALUE=DURATION:PT1H
X-Robots-Tag:noindex
X-PUBLISHED-TTL:PT1H
BEGIN:VTIMEZONE
TZID:UTC
BEGIN:STANDARD
TZOFFSETFROM:+0000
TZOFFSETTO:+0000
TZNAME:UTC
DTSTART:20170101T000000
END:STANDARD
END:VTIMEZONE
BEGIN:VEVENT
DTSTART;TZID=UTC:20170607T180000
DTEND;TZID=UTC:20170607T190000
DTSTAMP:20260420T210251
CREATED:20170523T153543Z
LAST-MODIFIED:20170523T153543Z
UID:10000643-1496858400-1496862000@silvercityradio.com
SUMMARY:DivorceCare Seminar and Support Group
DESCRIPTION:DivorceCare\, a special help seminar and support group for people experiencing divorce and separation will begin on Wednesday\, June 7th at 6 pm at Calvary Chapel.  Seminars include facing anger\, facing loneliness\, new relationships\, kid care and forgiveness.  Call 538-1631
URL:https://silvercityradio.com/event/divorcecare-seminar-and-support-group/
LOCATION:Calvary Chapel\, Hwy 90 Soth\, Silver City\, NM\, 88061\, United States
CATEGORIES:Adult Event,Meeting
END:VEVENT
BEGIN:VEVENT
DTSTART;TZID=UTC:20170607T183000
DTEND;TZID=UTC:20170607T200000
DTSTAMP:20260420T210251
CREATED:20170605T162410Z
LAST-MODIFIED:20170605T162410Z
UID:10000646-1496860200-1496865600@silvercityradio.com
SUMMARY:Fort Bayard National Cemetery Meeting
DESCRIPTION:Attention Veterans: Brad Phillips\, Executive Director of National Cemetery Administration – Pacific District; and Jared Howard\, Assistant Director of Fort Bayard and Santa Fe National Cemeteries will have a meeting at the American Legion Post regarding Fort Bayard on Wednesday\, June 7th at 6:30 pm.  The meeting is open to all Veterans and their families.  Call 956-5153
URL:https://silvercityradio.com/event/fort-bayard-national-cemetery-meeting-2/
LOCATION:American Legion Post 18\, 409 West College Avenue\, Silver City\, NM\, 88061\, United States
CATEGORIES:Meeting
END:VEVENT
END:VCALENDAR