BEGIN:VCALENDAR
VERSION:2.0
PRODID:-//Silver City Radio - ECPv6.3.3.1//NONSGML v1.0//EN
CALSCALE:GREGORIAN
METHOD:PUBLISH
X-ORIGINAL-URL:https://silvercityradio.com
X-WR-CALDESC:Events for Silver City Radio
REFRESH-INTERVAL;VALUE=DURATION:PT1H
X-Robots-Tag:noindex
X-PUBLISHED-TTL:PT1H
BEGIN:VTIMEZONE
TZID:UTC
BEGIN:STANDARD
TZOFFSETFROM:+0000
TZOFFSETTO:+0000
TZNAME:UTC
DTSTART:20170101T000000
END:STANDARD
END:VTIMEZONE
BEGIN:VEVENT
DTSTART;VALUE=DATE:20170506
DTEND;VALUE=DATE:20170507
DTSTAMP:20260420T172113
CREATED:20170403T202234Z
LAST-MODIFIED:20170403T202234Z
UID:10000577-1494028800-1494115199@silvercityradio.com
SUMMARY:Give Grandly 24-hour Day of Giving
DESCRIPTION:Give Grandly\, an annual 24-hour day of giving\, will be held on Saturday\, May 6th.  Give back to 51 local nonprofits who support the community by visiting the Farmer’s Market from 8:30 am to 2 pm\, or text the word GRANDLY to 41444.  Visit www.givegrandly.org
URL:https://silvercityradio.com/event/give-grandly-24-hour-day-of-giving/
CATEGORIES:Fundraiser
END:VEVENT
END:VCALENDAR