BEGIN:VCALENDAR
VERSION:2.0
PRODID:-//Silver City Radio - ECPv6.3.3.1//NONSGML v1.0//EN
CALSCALE:GREGORIAN
METHOD:PUBLISH
X-ORIGINAL-URL:https://silvercityradio.com
X-WR-CALDESC:Events for Silver City Radio
REFRESH-INTERVAL;VALUE=DURATION:PT1H
X-Robots-Tag:noindex
X-PUBLISHED-TTL:PT1H
BEGIN:VTIMEZONE
TZID:UTC
BEGIN:STANDARD
TZOFFSETFROM:+0000
TZOFFSETTO:+0000
TZNAME:UTC
DTSTART:20170101T000000
END:STANDARD
END:VTIMEZONE
BEGIN:VEVENT
DTSTART;TZID=UTC:20170430T100000
DTEND;TZID=UTC:20170430T120000
DTSTAMP:20260420T210340
CREATED:20170424T170356Z
LAST-MODIFIED:20170424T170356Z
UID:10000593-1493546400-1493553600@silvercityradio.com
SUMMARY:Hike to Gomez Peak
DESCRIPTION:The Grant County Trails Group and Continental Divide Trail Coalition will sponsor a community hike to the top of Gomez Peak as part of the CDT Trail Days celebration on Sunday\, April 30th from 10 am to noon.  Call 505-977-1056
URL:https://silvercityradio.com/event/hike-to-gomez-peak/
CATEGORIES:Health Event,Sports
END:VEVENT
BEGIN:VEVENT
DTSTART;TZID=UTC:20170430T150000
DTEND;TZID=UTC:20170430T170000
DTSTAMP:20260420T210340
CREATED:20170410T165338Z
LAST-MODIFIED:20170410T165338Z
UID:10000585-1493564400-1493571600@silvercityradio.com
SUMMARY:Grant County Concert: Cherish the Ladies
DESCRIPTION:The Grant County Community Concert Association is pleased to present Cherish the Ladies on Sunday\, April 30th beginning at 3 pm in the WNMU Fine Arts Center Theater.  Enjoy a blend of instrumental talents\, vocals\, and step dancing with this internationally celebrated American Celtic Groups.  Call 538-5862
URL:https://silvercityradio.com/event/grant-county-concert-cherish-the-ladies/
LOCATION:WNMU Fine Arts Center Theater\, 1000 West College Avenue\, Silver City\, NM\, 88061\, United States
CATEGORIES:Concert
END:VEVENT
END:VCALENDAR