BEGIN:VCALENDAR
VERSION:2.0
PRODID:-//Silver City Radio - ECPv6.3.3.1//NONSGML v1.0//EN
CALSCALE:GREGORIAN
METHOD:PUBLISH
X-ORIGINAL-URL:https://silvercityradio.com
X-WR-CALDESC:Events for Silver City Radio
REFRESH-INTERVAL;VALUE=DURATION:PT1H
X-Robots-Tag:noindex
X-PUBLISHED-TTL:PT1H
BEGIN:VTIMEZONE
TZID:UTC
BEGIN:STANDARD
TZOFFSETFROM:+0000
TZOFFSETTO:+0000
TZNAME:UTC
DTSTART:20170101T000000
END:STANDARD
END:VTIMEZONE
BEGIN:VEVENT
DTSTART;TZID=UTC:20170427T160000
DTEND;TZID=UTC:20170427T180000
DTSTAMP:20260421T043728
CREATED:20170424T165553Z
LAST-MODIFIED:20170424T165553Z
UID:10000589-1493308800-1493316000@silvercityradio.com
SUMMARY:Pop-Up MakerSpace Program: 3D Printer
DESCRIPTION:On Thursday\, April 27th from 4 to 6 pm\, the Public Library of Silver City will have a special Pop-Up MakerSpace program during WildWorks.  Representatives of the MakerState Initiative will show participants how to use a 3D Printer and make simple circuitry.  Call 538-3672
URL:https://silvercityradio.com/event/pop-up-makerspace-program-3d-printer/
LOCATION:Silver City Public LIbrary\, 515 W. College Avenue\, Silver City\, NM\, United States
CATEGORIES:Kids Event
END:VEVENT
END:VCALENDAR