BEGIN:VCALENDAR
VERSION:2.0
PRODID:-//Silver City Radio - ECPv6.3.3.1//NONSGML v1.0//EN
CALSCALE:GREGORIAN
METHOD:PUBLISH
X-ORIGINAL-URL:https://silvercityradio.com
X-WR-CALDESC:Events for Silver City Radio
REFRESH-INTERVAL;VALUE=DURATION:PT1H
X-Robots-Tag:noindex
X-PUBLISHED-TTL:PT1H
BEGIN:VTIMEZONE
TZID:UTC
BEGIN:STANDARD
TZOFFSETFROM:+0000
TZOFFSETTO:+0000
TZNAME:UTC
DTSTART:20170101T000000
END:STANDARD
END:VTIMEZONE
BEGIN:VEVENT
DTSTART;VALUE=DATE:20170419
DTEND;VALUE=DATE:20170424
DTSTAMP:20260424T074354
CREATED:20170403T201700Z
LAST-MODIFIED:20170403T201700Z
UID:10000574-1492560000-1492991999@silvercityradio.com
SUMMARY:31st Annual Tour of the Gila
DESCRIPTION:The 31st Annual Tour of the Gila will be held April 19th through April 23rd.  The Silver City to Mogollon race will begin on Wednesday\, followed by the Inner Loop race on Thursday and the Tyrone Individual Time Trials on Friday.  Saturday is the Downtown Criterium and citizens’ race.  The Tour of the Gila wraps up on Sunday with the grueling 105-mile Gila Monster Road Race.  Visit the new website at TouroftheGila.com
URL:https://silvercityradio.com/event/31st-annual-tour-of-the-gila/
CATEGORIES:Entertainment,Sports
END:VEVENT
BEGIN:VEVENT
DTSTART;TZID=UTC:20170422T100000
DTEND;TZID=UTC:20170422T140000
DTSTAMP:20260424T074354
CREATED:20170313T175627Z
LAST-MODIFIED:20170313T175627Z
UID:10000552-1492855200-1492869600@silvercityradio.com
SUMMARY:Help a Horse Day and Open House
DESCRIPTION:End of the Road Horse Rescue Ranch is celebrating Help a Horse Day with an open house on Saturday\, April 22nd from 10 am until 2 pm.  The public is invited out to 4092 Mountain View Road to meet the horses and volunteers and enjoy refreshments
URL:https://silvercityradio.com/event/help-a-horse-day-and-open-house/
CATEGORIES:Pet Event
END:VEVENT
BEGIN:VEVENT
DTSTART;TZID=UTC:20170422T180000
DTEND;TZID=UTC:20170422T210000
DTSTAMP:20260424T074354
CREATED:20170403T201941Z
LAST-MODIFIED:20170403T201941Z
UID:10000576-1492884000-1492894800@silvercityradio.com
SUMMARY:Copper Cowbelles Bunkhouse Bash
DESCRIPTION:The Copper Cowbelles Annual Shindig\, the Bunkhouse Bash\, will be held Saturday\, April 22nd at the Flame Convention Center beginning at 6 pm.  Join them for an evening of dinner\, dancing\, silent auction\, and fun with friends.  Tickets are $30 in advance\, $35 at the door.
URL:https://silvercityradio.com/event/copper-cowbelles-bunkhouse-bash-2/
LOCATION:The Flame Convention Center\, 2800 North Pinos Altos Road\, Silver City\, NM\, 88061\, United States
CATEGORIES:Adult Event,Entertainment,Food Event,Fundraiser
END:VEVENT
BEGIN:VEVENT
DTSTART;TZID=UTC:20170422T180000
DTEND;TZID=UTC:20170422T220000
DTSTAMP:20260424T074355
CREATED:20170327T201924Z
LAST-MODIFIED:20170327T201924Z
UID:10000565-1492884000-1492898400@silvercityradio.com
SUMMARY:Copper Cowbelles' Bunkhouse Bash
DESCRIPTION:The Copper Cowbelles Annual Shindig\, the Bunkhouse Bash\, will be held Saturday\, April 22nd at the Flame Convention Center beginning at 6 pm.  Join them for an evening of dinner\, dancing\, silent auction\, and fun with friends.  Tickets are $30 in advance\, $35 at the door
URL:https://silvercityradio.com/event/copper-cowbelles-bunkhouse-bash/
LOCATION:The Flame Convention Center\, 2800 North Pinos Altos Road\, Silver City\, NM\, 88061\, United States
CATEGORIES:Adult Event,Concert,Entertainment,Food Event,Fundraiser
END:VEVENT
END:VCALENDAR