BEGIN:VCALENDAR
VERSION:2.0
PRODID:-//Silver City Radio - ECPv6.3.3.1//NONSGML v1.0//EN
CALSCALE:GREGORIAN
METHOD:PUBLISH
X-ORIGINAL-URL:https://silvercityradio.com
X-WR-CALDESC:Events for Silver City Radio
REFRESH-INTERVAL;VALUE=DURATION:PT1H
X-Robots-Tag:noindex
X-PUBLISHED-TTL:PT1H
BEGIN:VTIMEZONE
TZID:UTC
BEGIN:STANDARD
TZOFFSETFROM:+0000
TZOFFSETTO:+0000
TZNAME:UTC
DTSTART:20170101T000000
END:STANDARD
END:VTIMEZONE
BEGIN:VEVENT
DTSTART;TZID=UTC:20170413T100000
DTEND;TZID=UTC:20170413T120000
DTSTAMP:20260424T074354
CREATED:20170410T161821Z
LAST-MODIFIED:20170410T161821Z
UID:10000582-1492077600-1492084800@silvercityradio.com
SUMMARY:Learn to Borrow E-Books at the Library
DESCRIPTION:Learn how to borrow e-books and downloadable audiobooks for free from the Silver City Public Library during a workshop on Thursday\, April 13th from 10 am to noon.  Come early to check the status of your library card\, as it will be used to access New Mexico Library To-Go.  Call 538-3672
URL:https://silvercityradio.com/event/learn-to-borrow-e-books-at-the-library/
LOCATION:Silver City Public LIbrary\, 515 W. College Avenue\, Silver City\, NM\, United States
CATEGORIES:Presentation
END:VEVENT
BEGIN:VEVENT
DTSTART;TZID=UTC:20170413T160000
DTEND;TZID=UTC:20170413T170000
DTSTAMP:20260424T074354
CREATED:20170410T163220Z
LAST-MODIFIED:20170410T163220Z
UID:10000583-1492099200-1492102800@silvercityradio.com
SUMMARY:Easter Egg WildWorks
DESCRIPTION:Also at the Library on Thursday\, there will be a special Easter Egg WildWorks Program for all ages.  There will be egg dyeing kits to make some special Easter Eggs.  Participants can bring their own hard-boiled eggs to dye or use those provided while supplies last.  Call 538-3672
URL:https://silvercityradio.com/event/easter-egg-wildworks/
LOCATION:Silver City Public LIbrary\, 515 W. College Avenue\, Silver City\, NM\, United States
CATEGORIES:Craft,Holiday,Kids Event
END:VEVENT
END:VCALENDAR