BEGIN:VCALENDAR
VERSION:2.0
PRODID:-//Silver City Radio - ECPv6.3.3.1//NONSGML v1.0//EN
CALSCALE:GREGORIAN
METHOD:PUBLISH
X-WR-CALNAME:Silver City Radio
X-ORIGINAL-URL:https://silvercityradio.com
X-WR-CALDESC:Events for Silver City Radio
REFRESH-INTERVAL;VALUE=DURATION:PT1H
X-Robots-Tag:noindex
X-PUBLISHED-TTL:PT1H
BEGIN:VTIMEZONE
TZID:UTC
BEGIN:STANDARD
TZOFFSETFROM:+0000
TZOFFSETTO:+0000
TZNAME:UTC
DTSTART:20170101T000000
END:STANDARD
END:VTIMEZONE
BEGIN:VEVENT
DTSTART;TZID=UTC:20170405T163000
DTEND;TZID=UTC:20170405T180000
DTSTAMP:20260421T043755
CREATED:20170403T195534Z
LAST-MODIFIED:20170403T195534Z
UID:10000566-1491409800-1491415200@silvercityradio.com
SUMMARY:Volunteer Center Common Wednesday: "Cooked: Air"
DESCRIPTION:The Volunteer Center’s Common Wednesday’s theme of the month for April is Air.  On April 5th\, watch the documentary series “Cooked: Air” episode and learn the science of bread making and the nature of gluten.  Call 388-2988
URL:https://silvercityradio.com/event/volunteer-center-common-wednesday-cooked-air/
LOCATION:Volunteer Center\, 501 E 13th St\, Silver City\, NM\, 88061\, United States
CATEGORIES:Entertainment,Food Event
END:VEVENT
END:VCALENDAR