BEGIN:VCALENDAR
VERSION:2.0
PRODID:-//Silver City Radio - ECPv6.3.3.1//NONSGML v1.0//EN
CALSCALE:GREGORIAN
METHOD:PUBLISH
X-WR-CALNAME:Silver City Radio
X-ORIGINAL-URL:https://silvercityradio.com
X-WR-CALDESC:Events for Silver City Radio
REFRESH-INTERVAL;VALUE=DURATION:PT1H
X-Robots-Tag:noindex
X-PUBLISHED-TTL:PT1H
BEGIN:VTIMEZONE
TZID:UTC
BEGIN:STANDARD
TZOFFSETFROM:+0000
TZOFFSETTO:+0000
TZNAME:UTC
DTSTART:20170101T000000
END:STANDARD
END:VTIMEZONE
BEGIN:VEVENT
DTSTART;TZID=UTC:20170329T100000
DTEND;TZID=UTC:20170329T120000
DTSTAMP:20260420T171917
CREATED:20170313T172738Z
LAST-MODIFIED:20170313T172738Z
UID:10000444-1490781600-1490788800@silvercityradio.com
SUMMARY:Girl Scouts "Agents of Change"
DESCRIPTION:Girl Scouts of the Desert Southwest will be offering Spring Break Activities for girls.  March 28h and 29th from 10 am to noon\, girls in grades 2 through 5 will be “Agents of Change\,” on the 30th from 10 to 11:30 Kinder and 1st graders will learn about friendship and from 1 to 2:15 and 2:30 to 3:45 girls in 4th grade and up will participate in an archery clinic.  Call 538-2481
URL:https://silvercityradio.com/event/girl-scouts-agents-of-change-4/
LOCATION:Girl Scout Little House\, 302 W 11th Street\, Silver City\, NM\, 88061\, United States
CATEGORIES:Kids Event
END:VEVENT
END:VCALENDAR