BEGIN:VCALENDAR
VERSION:2.0
PRODID:-//Silver City Radio - ECPv6.3.3.1//NONSGML v1.0//EN
CALSCALE:GREGORIAN
METHOD:PUBLISH
X-ORIGINAL-URL:https://silvercityradio.com
X-WR-CALDESC:Events for Silver City Radio
REFRESH-INTERVAL;VALUE=DURATION:PT1H
X-Robots-Tag:noindex
X-PUBLISHED-TTL:PT1H
BEGIN:VTIMEZONE
TZID:UTC
BEGIN:STANDARD
TZOFFSETFROM:+0000
TZOFFSETTO:+0000
TZNAME:UTC
DTSTART:20170101T000000
END:STANDARD
END:VTIMEZONE
BEGIN:VEVENT
DTSTART;TZID=UTC:20170323T094500
DTEND;TZID=UTC:20170323T150000
DTSTAMP:20260420T210457
CREATED:20170228T165117Z
LAST-MODIFIED:20170228T165117Z
UID:10000432-1490262300-1490281200@silvercityradio.com
SUMMARY:Rural Bookmobile West
DESCRIPTION:On Thursday\, March 23rd\, the Rural Bookmobile West is scheduled to be at the Living Harvest Bakery in Mimbres at 9:45\, at the Sapillo Creek Fire Station at Lake Roberts at 11:45\, and Doc Campbell’s Post near the Gila Cliff Dwellings at 2:30.  Call 505-841-5250
URL:https://silvercityradio.com/event/rural-bookmobile-west-2/
CATEGORIES:Entertainment
END:VEVENT
BEGIN:VEVENT
DTSTART;TZID=UTC:20170323T100000
DTEND;TZID=UTC:20170323T120000
DTSTAMP:20260420T210457
CREATED:20170228T165011Z
LAST-MODIFIED:20170228T165011Z
UID:10000546-1490263200-1490270400@silvercityradio.com
SUMMARY:Online Job Seeking Tech Workshop
DESCRIPTION:There will be an Online Job Seeking Tech Workshop at the Silver City Public Library on Thursday\, March 23rd from 10 am to noon.  The Free workshop will explain how to use the internet for job searching and application completion.  Call 538-367
URL:https://silvercityradio.com/event/online-job-seeking-tech-workshop/
LOCATION:Silver City Public LIbrary\, 515 W. College Avenue\, Silver City\, NM\, United States
CATEGORIES:Adult Event,Training
END:VEVENT
BEGIN:VEVENT
DTSTART;TZID=UTC:20170323T100000
DTEND;TZID=UTC:20170323T120000
DTSTAMP:20260420T210457
CREATED:20170313T164920Z
LAST-MODIFIED:20170313T164920Z
UID:10000547-1490263200-1490270400@silvercityradio.com
SUMMARY:Single Family Housing Workshop
DESCRIPTION:USDA Rural Development invites you to a workshop to learn more about Single Family Housing and guaranteed and direct loan grant programs on Thursday\, March 23rd from 10 am to noon at the City Hall Annex 2nd Floor Conference Room.  RSVP to 522-775 ext 125
URL:https://silvercityradio.com/event/single-family-housing-workshop/
CATEGORIES:Presentation
END:VEVENT
BEGIN:VEVENT
DTSTART;TZID=UTC:20170323T190000
DTEND;TZID=UTC:20170323T210000
DTSTAMP:20260420T210457
CREATED:20170313T171056Z
LAST-MODIFIED:20170313T171056Z
UID:10000548-1490295600-1490302800@silvercityradio.com
SUMMARY:Fort Bayard Film Series: "The Lost Battalion"
DESCRIPTION:In recognition of the 100th anniversary of the United States entry into World War I\, the Fort Bayard Historic Preservation Society will sponsor a ten-part film series on Thursdays at 7 pm at the Santa Clara National Guard Armory.  March 23rd will be “The Lost Battalion.”  Admission is free\, and concessions will be available.  Call 388-4862
URL:https://silvercityradio.com/event/fort-bayard-film-series-the-lost-battalion/
LOCATION:Santa Clara Armory
CATEGORIES:Entertainment
END:VEVENT
END:VCALENDAR