BEGIN:VCALENDAR
VERSION:2.0
PRODID:-//Silver City Radio - ECPv6.3.3.1//NONSGML v1.0//EN
CALSCALE:GREGORIAN
METHOD:PUBLISH
X-WR-CALNAME:Silver City Radio
X-ORIGINAL-URL:https://silvercityradio.com
X-WR-CALDESC:Events for Silver City Radio
REFRESH-INTERVAL;VALUE=DURATION:PT1H
X-Robots-Tag:noindex
X-PUBLISHED-TTL:PT1H
BEGIN:VTIMEZONE
TZID:UTC
BEGIN:STANDARD
TZOFFSETFROM:+0000
TZOFFSETTO:+0000
TZNAME:UTC
DTSTART:20170101T000000
END:STANDARD
END:VTIMEZONE
BEGIN:VEVENT
DTSTART;TZID=UTC:20170316T140000
DTEND;TZID=UTC:20170316T170000
DTSTAMP:20260420T210354
CREATED:20170228T162759Z
LAST-MODIFIED:20170228T162759Z
UID:10000541-1489672800-1489683600@silvercityradio.com
SUMMARY:Spring Break Activity: The Fault in Our Stars
DESCRIPTION:The Silver City Public Library will have special children and youth activities during the week of March 13th through the 17th for Spring Break.   “The Fault in Our Stars” will be shown Thursday\, March 16th at 2 pm along with Minecraft Madness during WildWorks at 4 pm.  Call 538-3672
URL:https://silvercityradio.com/event/spring-break-activity-the-fault-in-our-stars/
LOCATION:Silver City Public LIbrary\, 515 W. College Avenue\, Silver City\, NM\, United States
CATEGORIES:Entertainment,Kids Event
END:VEVENT
BEGIN:VEVENT
DTSTART;TZID=UTC:20170316T190000
DTEND;TZID=UTC:20170316T210000
DTSTAMP:20260420T210354
CREATED:20170228T163547Z
LAST-MODIFIED:20170228T163547Z
UID:10000543-1489690800-1489698000@silvercityradio.com
SUMMARY:World War I Film Series: "World War I: America and the Great War"
DESCRIPTION:In recognition of the 100th anniversary of the United States entry into World War I\, the Fort Bayard Historic Preservation Society will sponsor a ten-part film series on Thursdays through April 6th.  Films will be shown at 7 pm at the Santa Clara National Guard Armory.  March 16th will be “World War I: America and the Great War.”  Admission is free\, and concessions will be available.  Call 388-4862
URL:https://silvercityradio.com/event/world-war-i-film-series-world-war-i-america-and-the-great-war/
LOCATION:Santa Clara Armory
CATEGORIES:Entertainment
END:VEVENT
END:VCALENDAR