BEGIN:VCALENDAR
VERSION:2.0
PRODID:-//Silver City Radio - ECPv6.3.3.1//NONSGML v1.0//EN
CALSCALE:GREGORIAN
METHOD:PUBLISH
X-ORIGINAL-URL:https://silvercityradio.com
X-WR-CALDESC:Events for Silver City Radio
REFRESH-INTERVAL;VALUE=DURATION:PT1H
X-Robots-Tag:noindex
X-PUBLISHED-TTL:PT1H
BEGIN:VTIMEZONE
TZID:UTC
BEGIN:STANDARD
TZOFFSETFROM:+0000
TZOFFSETTO:+0000
TZNAME:UTC
DTSTART:20170101T000000
END:STANDARD
END:VTIMEZONE
BEGIN:VEVENT
DTSTART;TZID=UTC:20170309T090000
DTEND;TZID=UTC:20170312T170000
DTSTAMP:20260420T210459
CREATED:20170306T232053Z
LAST-MODIFIED:20170306T232053Z
UID:10000435-1489050000-1489338000@silvercityradio.com
SUMMARY:Rockhound Roundup in Deming
DESCRIPTION:The Deming Gem & Mineral Society proudly presents the 52nd annual Rockhound Roundup Gem & Mineral Show on March 9th through 12th from 9 am until 5 pm at the Southwest New Mexico Fairgrounds.  Admission and parking are free\, and the public is invited to attend.  Call 694-3598
URL:https://silvercityradio.com/event/rockhound-roundup-in-deming/
LOCATION:SW NM Fairgrounds\, 4300 Raymond Reed Blvd\, Deming\, NM\, 88030\, United States
CATEGORIES:Entertainment
END:VEVENT
END:VCALENDAR