BEGIN:VCALENDAR
VERSION:2.0
PRODID:-//Silver City Radio - ECPv6.3.3.1//NONSGML v1.0//EN
CALSCALE:GREGORIAN
METHOD:PUBLISH
X-WR-CALNAME:Silver City Radio
X-ORIGINAL-URL:https://silvercityradio.com
X-WR-CALDESC:Events for Silver City Radio
REFRESH-INTERVAL;VALUE=DURATION:PT1H
X-Robots-Tag:noindex
X-PUBLISHED-TTL:PT1H
BEGIN:VTIMEZONE
TZID:UTC
BEGIN:STANDARD
TZOFFSETFROM:+0000
TZOFFSETTO:+0000
TZNAME:UTC
DTSTART:20170101T000000
END:STANDARD
END:VTIMEZONE
BEGIN:VEVENT
DTSTART;TZID=UTC:20170307T160000
DTEND;TZID=UTC:20170307T173000
DTSTAMP:20260420T171916
CREATED:20170227T230403Z
LAST-MODIFIED:20170227T230403Z
UID:10000532-1488902400-1488907800@silvercityradio.com
SUMMARY:"Grant County in World War I"
DESCRIPTION:The Silver City Public Library will present Grant County in World War I on Tuesday\, March 7th at 4 pm.  A local researcher will speak about the war and our region’s involvement.  This event is free and open to the public.  Call 538-3672
URL:https://silvercityradio.com/event/grant-county-in-world-war-i/
LOCATION:Silver City Public LIbrary\, 515 W. College Avenue\, Silver City\, NM\, United States
CATEGORIES:Presentation
END:VEVENT
END:VCALENDAR