BEGIN:VCALENDAR
VERSION:2.0
PRODID:-//Silver City Radio - ECPv6.3.3.1//NONSGML v1.0//EN
CALSCALE:GREGORIAN
METHOD:PUBLISH
X-WR-CALNAME:Silver City Radio
X-ORIGINAL-URL:https://silvercityradio.com
X-WR-CALDESC:Events for Silver City Radio
REFRESH-INTERVAL;VALUE=DURATION:PT1H
X-Robots-Tag:noindex
X-PUBLISHED-TTL:PT1H
BEGIN:VTIMEZONE
TZID:UTC
BEGIN:STANDARD
TZOFFSETFROM:+0000
TZOFFSETTO:+0000
TZNAME:UTC
DTSTART:20170101T000000
END:STANDARD
END:VTIMEZONE
BEGIN:VEVENT
DTSTART;TZID=UTC:20170303T180000
DTEND;TZID=UTC:20170303T193000
DTSTAMP:20260420T210352
CREATED:20170227T202804Z
LAST-MODIFIED:20170227T202804Z
UID:10000530-1488564000-1488569400@silvercityradio.com
SUMMARY:Library Concert Series: Sean Gaskell
DESCRIPTION:The Silver City Public Library is pleased to present Sean Gaskell as part of the Library Concert Series on Friday\, March 3rd at 6 pm.  Gaskell will perform traditional West African Music on the Kora\, a 12-string harp.  The concert is free and open to the public.  Space is limited and will be on a first come\, first seated basis.  Call 538-3672
URL:https://silvercityradio.com/event/library-concert-series-sean-gaskell/
LOCATION:Silver City Public LIbrary\, 515 W. College Avenue\, Silver City\, NM\, United States
CATEGORIES:Concert
END:VEVENT
BEGIN:VEVENT
DTSTART;TZID=UTC:20170303T190000
DTEND;TZID=UTC:20170303T200000
DTSTAMP:20260420T210352
CREATED:20170227T230012Z
LAST-MODIFIED:20170302T230342Z
UID:10000531-1488567600-1488571200@silvercityradio.com
SUMMARY:CANCELED - Audubon Society Meeting
DESCRIPTION:The Southwest New Mexico Audubon Society monthly meeting will be held Friday\, March 3rd at 7 pm in WNMU’s Harlan Hall.  Dr. Phil Hedrick will present “Yellowstone\, Isle Royale\, and Mexican Wolves: Genetics and Conservation.”  Call 388-2386
URL:https://silvercityradio.com/event/audubon-society-meeting-6/
LOCATION:WNMU Harlan Hall\, 1000 West College Avenue\, Silver City\, NM\, 88061\, United States
CATEGORIES:Meeting,Presentation
END:VEVENT
END:VCALENDAR