BEGIN:VCALENDAR
VERSION:2.0
PRODID:-//Silver City Radio - ECPv6.3.3.1//NONSGML v1.0//EN
CALSCALE:GREGORIAN
METHOD:PUBLISH
X-WR-CALNAME:Silver City Radio
X-ORIGINAL-URL:https://silvercityradio.com
X-WR-CALDESC:Events for Silver City Radio
REFRESH-INTERVAL;VALUE=DURATION:PT1H
X-Robots-Tag:noindex
X-PUBLISHED-TTL:PT1H
BEGIN:VTIMEZONE
TZID:UTC
BEGIN:STANDARD
TZOFFSETFROM:+0000
TZOFFSETTO:+0000
TZNAME:UTC
DTSTART:20170101T000000
END:STANDARD
END:VTIMEZONE
BEGIN:VEVENT
DTSTART;TZID=UTC:20170225T103000
DTEND;TZID=UTC:20170225T133000
DTSTAMP:20260421T043754
CREATED:20170221T234408Z
LAST-MODIFIED:20170221T234408Z
UID:10000520-1488018600-1488029400@silvercityradio.com
SUMMARY:"Starting Seeds Indoors" Seed Library Roundtable
DESCRIPTION:There will be a Grant County Seed Library Roundtable\, “Starting Seeds Indoors\,” on Saturday\, February 25th from 10:30 to 11:30 am\, and from 12:30 to 1:30 at the Silver city Public Library.  There will be information and demonstrations on how to start seeds indoors.  The event is free and new and seasoned gardeners are welcome.  Call 538-3672
URL:https://silvercityradio.com/event/starting-seeds-indoors-seed-library-roundtable/
LOCATION:Silver City Public LIbrary\, 515 W. College Avenue\, Silver City\, NM\, United States
CATEGORIES:Presentation
END:VEVENT
END:VCALENDAR