BEGIN:VCALENDAR
VERSION:2.0
PRODID:-//Silver City Radio - ECPv6.3.3.1//NONSGML v1.0//EN
CALSCALE:GREGORIAN
METHOD:PUBLISH
X-WR-CALNAME:Silver City Radio
X-ORIGINAL-URL:https://silvercityradio.com
X-WR-CALDESC:Events for Silver City Radio
REFRESH-INTERVAL;VALUE=DURATION:PT1H
X-Robots-Tag:noindex
X-PUBLISHED-TTL:PT1H
BEGIN:VTIMEZONE
TZID:UTC
BEGIN:STANDARD
TZOFFSETFROM:+0000
TZOFFSETTO:+0000
TZNAME:UTC
DTSTART:20150101T000000
END:STANDARD
END:VTIMEZONE
BEGIN:VEVENT
DTSTART;TZID=UTC:20151024T100000
DTEND;TZID=UTC:20151024T120000
DTSTAMP:20260424T051326
CREATED:20151014T171118Z
LAST-MODIFIED:20151014T171118Z
UID:10000127-1445680800-1445688000@silvercityradio.com
SUMMARY:Beekeeping Workshop
DESCRIPTION:The New Mexico Beekeepers Association and the Grant County Extension Service are sponsoring a basic beekeeping workshop on October 24th at the Grant County Extension Office from 10 to noon.  For experienced beekeepers\, there will be additional support on the 23rd from 3 to 5.  Call 388-1559
URL:https://silvercityradio.com/event/beekeeping-workshop/
LOCATION:Grant County Extension Office\, 2610 North Silver Street\, Silver City\, NM\, 88061\, United States
CATEGORIES:Training
END:VEVENT
BEGIN:VEVENT
DTSTART;TZID=UTC:20151024T190000
DTEND;TZID=UTC:20151024T200000
DTSTAMP:20260424T051326
CREATED:20151014T171208Z
LAST-MODIFIED:20151014T171208Z
UID:10000128-1445713200-1445716800@silvercityradio.com
SUMMARY:"Mark Twain" at the Masonic Lodge
DESCRIPTION:On October 24th at 7 pm\, “Mark Twain\,” portrayed by Jefferson H. Jordan Jr\, will present a one man show at the Silver City Masonic Lodge #8.  A meet and greet with the artist will follow the presentation\, along with refreshments.  This event is free\, but donations for local veterans will be accepted.  Call 538-8561
URL:https://silvercityradio.com/event/mark-twain-at-the-masonic-lodge/
LOCATION:Masonic Lodge #8\, 11 Ridge Road\, Silver City\, NM\, 88061\, United States
CATEGORIES:Entertainment
END:VEVENT
END:VCALENDAR